BEGIN:VCALENDAR
VERSION:2.0
PRODID:SchoolNow
CALSCALE:GREGORIAN
BEGIN:VEVENT
UID:f6fd808c-5d65-11ee-8a17-0a58a9feac02
DTSTAMP:20230927T190649Z
SUMMARY:Advanced Band Practice
LOCATION:B101
URL;VALUE=URI:https://www.arbor145.org/apms/calendar/4802128/advanced-band
DTSTART:20231204T203000Z
DTEND:20231204T211500Z
END:VEVENT
END:VCALENDAR
