BEGIN:VCALENDAR
VERSION:2.0
PRODID:SchoolNow
CALSCALE:GREGORIAN
BEGIN:VEVENT
UID:20cb4bec-5d66-11ee-8671-0a58a9feac02
DTSTAMP:20230927T190705Z
SUMMARY:Advanced Band Practice
LOCATION:B101
URL;VALUE=URI:https://www.arbor145.org/apms/calendar/4802130/advanced-band
DTSTART:20231218T203000Z
DTEND:20231218T211500Z
END:VEVENT
END:VCALENDAR
