BEGIN:VCALENDAR
VERSION:2.0
PRODID:SchoolNow
CALSCALE:GREGORIAN
BEGIN:VEVENT
UID:e7515306-5d66-11ee-b26e-02e5861b2049
DTSTAMP:20230927T190711Z
SUMMARY:Advanced Band Practice
LOCATION:B101
URL;VALUE=URI:https://www.arbor145.org/apms/calendar/4802132/advanced-band
DTSTART:20240108T203000Z
DTEND:20240108T211500Z
END:VEVENT
END:VCALENDAR
