BEGIN:VCALENDAR
VERSION:2.0
PRODID:SchoolNow
CALSCALE:GREGORIAN
BEGIN:VEVENT
UID:0e49c466-5d67-11ee-be12-0a58a9feac02
DTSTAMP:20230927T190718Z
SUMMARY:Advanced Band Practice
LOCATION:B101
URL;VALUE=URI:https://www.arbor145.org/apms/calendar/4802133/advanced-band
DTSTART:20240122T203000Z
DTEND:20240122T211500Z
END:VEVENT
END:VCALENDAR
