BEGIN:VCALENDAR
VERSION:2.0
PRODID:SchoolNow
CALSCALE:GREGORIAN
BEGIN:VEVENT
UID:1e769080-5d67-11ee-917a-0a58a9feac02
DTSTAMP:20230927T190725Z
SUMMARY:Advanced Band Practice
LOCATION:B101
URL;VALUE=URI:https://www.arbor145.org/apms/calendar/4802134/advanced-band
DTSTART:20240129T203000Z
DTEND:20240129T211500Z
END:VEVENT
END:VCALENDAR
