BEGIN:VCALENDAR
VERSION:2.0
PRODID:SchoolNow
CALSCALE:GREGORIAN
BEGIN:VEVENT
UID:6638e832-5d67-11ee-b536-0a58a9feac02
DTSTAMP:20230927T190732Z
SUMMARY:Advanced Band Practice
LOCATION:B101
URL;VALUE=URI:https://www.arbor145.org/apms/calendar/4802136/advanced-band
DTSTART:20240205T203000Z
DTEND:20240205T211500Z
END:VEVENT
END:VCALENDAR
