BEGIN:VCALENDAR
VERSION:2.0
PRODID:SchoolNow
CALSCALE:GREGORIAN
BEGIN:VEVENT
UID:8eb5eb84-5d67-11ee-9db2-0e04d5b84849
DTSTAMP:20230927T190743Z
SUMMARY:Advanced Band Practice
LOCATION:B101
URL;VALUE=URI:https://www.arbor145.org/apms/calendar/4802137/advanced-band
DTSTART:20240212T203000Z
DTEND:20240212T211500Z
END:VEVENT
END:VCALENDAR
