BEGIN:VCALENDAR
VERSION:2.0
PRODID:SchoolNow
CALSCALE:GREGORIAN
BEGIN:VEVENT
UID:9e44f004-5d67-11ee-88fa-02974bfaa6b5
DTSTAMP:20230927T190751Z
SUMMARY:Advanced Band Practice
LOCATION:B101
URL;VALUE=URI:https://www.arbor145.org/apms/calendar/4802138/advanced-band
DTSTART:20240226T203000Z
DTEND:20240226T211500Z
END:VEVENT
END:VCALENDAR
