BEGIN:VCALENDAR
VERSION:2.0
PRODID:SchoolNow
CALSCALE:GREGORIAN
BEGIN:VEVENT
UID:bf3748ca-5d67-11ee-aca2-027edb05bc83
DTSTAMP:20230927T190759Z
SUMMARY:Advanced Band Practice
LOCATION:B101
URL;VALUE=URI:https://www.arbor145.org/apms/calendar/4802139/advanced-band
DTSTART:20240311T193000Z
DTEND:20240311T201500Z
END:VEVENT
END:VCALENDAR
