BEGIN:VCALENDAR
VERSION:2.0
PRODID:SchoolNow
CALSCALE:GREGORIAN
BEGIN:VEVENT
UID:d126d1ae-5d67-11ee-bca4-0a58a9feac02
DTSTAMP:20230927T190806Z
SUMMARY:Advanced Band Practice
LOCATION:B101
URL;VALUE=URI:https://www.arbor145.org/apms/calendar/4802140/advanced-band
DTSTART:20240318T193000Z
DTEND:20240318T201500Z
END:VEVENT
END:VCALENDAR
