BEGIN:VCALENDAR
VERSION:2.0
PRODID:SchoolNow
CALSCALE:GREGORIAN
BEGIN:VEVENT
UID:e6ae0704-5d67-11ee-9099-0a58a9feac02
DTSTAMP:20230927T190834Z
SUMMARY:Advanced Band Practice
LOCATION:B101
URL;VALUE=URI:https://www.arbor145.org/apms/calendar/4802141/advanced-band
DTSTART:20240401T193000Z
DTEND:20240401T201500Z
END:VEVENT
END:VCALENDAR
