BEGIN:VCALENDAR
VERSION:2.0
PRODID:SchoolNow
CALSCALE:GREGORIAN
BEGIN:VEVENT
UID:f5747d90-5d67-11ee-82ff-0a9d2e3fd805
DTSTAMP:20230927T190841Z
SUMMARY:Advanced Band Practice
LOCATION:B101
URL;VALUE=URI:https://www.arbor145.org/apms/calendar/4802142/advanced-band
DTSTART:20240408T193000Z
DTEND:20240408T201500Z
END:VEVENT
END:VCALENDAR
