BEGIN:VCALENDAR
VERSION:2.0
PRODID:SchoolNow
CALSCALE:GREGORIAN
BEGIN:VEVENT
UID:06fe5a86-5d68-11ee-b205-0a58a9feac02
DTSTAMP:20230927T190849Z
SUMMARY:Advanced Band Practice
LOCATION:B101
URL;VALUE=URI:https://www.arbor145.org/apms/calendar/4802143/advanced-band
DTSTART:20240415T193000Z
DTEND:20240415T201500Z
END:VEVENT
END:VCALENDAR
