BEGIN:VCALENDAR
VERSION:2.0
PRODID:SchoolNow
CALSCALE:GREGORIAN
BEGIN:VEVENT
UID:7f53ddee-5d68-11ee-bd81-0a58a9feac02
DTSTAMP:20230927T190931Z
SUMMARY:Advanced Band Practice
LOCATION:B101
URL;VALUE=URI:https://www.arbor145.org/apms/calendar/4802146/advanced-band
DTSTART:20240422T193000Z
DTEND:20240422T201500Z
END:VEVENT
END:VCALENDAR
