BEGIN:VCALENDAR
VERSION:2.0
PRODID:SchoolNow
CALSCALE:GREGORIAN
BEGIN:VEVENT
UID:8f9fed0a-5d68-11ee-a9e2-0a58a9feac02
DTSTAMP:20230927T190936Z
SUMMARY:Advanced Band Practice
LOCATION:B101
URL;VALUE=URI:https://www.arbor145.org/apms/calendar/4802147/advanced-band
DTSTART:20240429T193000Z
DTEND:20240429T201500Z
END:VEVENT
END:VCALENDAR
