BEGIN:VCALENDAR
VERSION:2.0
PRODID:SchoolNow
CALSCALE:GREGORIAN
BEGIN:VEVENT
UID:a19c39aa-5d68-11ee-991c-0a58a9feac02
DTSTAMP:20230927T190945Z
SUMMARY:Advanced Band Practice
LOCATION:B101
URL;VALUE=URI:https://www.arbor145.org/apms/calendar/4802148/advanced-band
DTSTART:20240506T193000Z
DTEND:20240506T201500Z
END:VEVENT
END:VCALENDAR
