BEGIN:VCALENDAR
VERSION:2.0
PRODID:SchoolNow
CALSCALE:GREGORIAN
BEGIN:VEVENT
UID:b75faf42-5d68-11ee-b321-0a58a9feac02
DTSTAMP:20230927T190442Z
SUMMARY:Advanced Band Practice
LOCATION:B101
URL;VALUE=URI:https://www.arbor145.org/apms/calendar/4802149/advanced-band-
 practice
DTSTART:20240513T193000Z
DTEND:20240513T201500Z
END:VEVENT
END:VCALENDAR
