BEGIN:VCALENDAR
VERSION:2.0
PRODID:SchoolNow
CALSCALE:GREGORIAN
BEGIN:VEVENT
UID:ccf97180-5d68-11ee-98f1-02abb7e0b51d
DTSTAMP:20230927T190519Z
SUMMARY:Advanced Band Practice
LOCATION:B101
URL;VALUE=URI:https://www.arbor145.org/apms/calendar/4802150/advanced-band-
 practice
DTSTART:20240520T193000Z
DTEND:20240520T201500Z
END:VEVENT
END:VCALENDAR
