BEGIN:VCALENDAR
VERSION:2.0
PRODID:SchoolNow
CALSCALE:GREGORIAN
BEGIN:VEVENT
UID:cb4e61b8-5efa-11ee-8832-023bc3528a89
DTSTAMP:20230929T190254Z
SUMMARY:Beginning Band Practice
LOCATION:B101
URL;VALUE=URI:https://www.arbor145.org/apms/calendar/4811685/beginning-band
 -practice
DTSTART:20231003T193000Z
DTEND:20231003T201500Z
END:VEVENT
END:VCALENDAR
