BEGIN:VCALENDAR
VERSION:2.0
PRODID:SchoolNow
CALSCALE:GREGORIAN
BEGIN:VEVENT
UID:d84779ae-5efa-11ee-b9fc-0ab81c7bd7ab
DTSTAMP:20230929T190315Z
SUMMARY:Beginning Band Practice
LOCATION:B101
URL;VALUE=URI:https://www.arbor145.org/apms/calendar/4811686/beginning-band
 -practice-clone
DTSTART:20231010T193000Z
DTEND:20231010T201500Z
END:VEVENT
END:VCALENDAR
