BEGIN:VCALENDAR
VERSION:2.0
PRODID:SchoolNow
CALSCALE:GREGORIAN
BEGIN:VEVENT
UID:e98c5040-5efa-11ee-bca9-0a58a9feac02
DTSTAMP:20230929T190344Z
SUMMARY:Beginning Band Practice
LOCATION:B101
URL;VALUE=URI:https://www.arbor145.org/apms/calendar/4811687/beginning-band
 -practice-clone-clone
DTSTART:20231005T193000Z
DTEND:20231005T201500Z
END:VEVENT
END:VCALENDAR
