BEGIN:VCALENDAR
VERSION:2.0
PRODID:SchoolNow
CALSCALE:GREGORIAN
BEGIN:VEVENT
UID:f30061fc-5efa-11ee-9809-0ab81c7bd7ab
DTSTAMP:20230929T190400Z
SUMMARY:Beginning Band Practice
LOCATION:B101
URL;VALUE=URI:https://www.arbor145.org/apms/calendar/4811688/beginning-band
 -practice-clone-clone
DTSTART:20231012T193000Z
DTEND:20231012T201500Z
END:VEVENT
END:VCALENDAR
