BEGIN:VCALENDAR
VERSION:2.0
PRODID:SchoolNow
CALSCALE:GREGORIAN
BEGIN:VEVENT
UID:fd618496-5efa-11ee-8a38-020a3b9851d1
DTSTAMP:20230929T190418Z
SUMMARY:Beginning Band Practice
LOCATION:B101
URL;VALUE=URI:https://www.arbor145.org/apms/calendar/4811689/beginning-band
 -practice-clone-clone-clone
DTSTART:20231017T193000Z
DTEND:20231017T201500Z
END:VEVENT
END:VCALENDAR
