BEGIN:VCALENDAR
VERSION:2.0
PRODID:SchoolNow
CALSCALE:GREGORIAN
BEGIN:VEVENT
UID:0b98260a-5efb-11ee-b65d-0a4087734a21
DTSTAMP:20230929T190441Z
SUMMARY:Beginning Band Practice
LOCATION:B101
URL;VALUE=URI:https://www.arbor145.org/apms/calendar/4811690/beginning-band
 -practice-clone-clone-clone-clone
DTSTART:20231019T193000Z
DTEND:20231019T201500Z
END:VEVENT
END:VCALENDAR
