BEGIN:VCALENDAR
VERSION:2.0
PRODID:SchoolNow
CALSCALE:GREGORIAN
BEGIN:VEVENT
UID:68cdded2-5efb-11ee-98a2-0a8fc331ecd9
DTSTAMP:20230929T190718Z
SUMMARY:Beginning Band Practice
LOCATION:B101
URL;VALUE=URI:https://www.arbor145.org/apms/calendar/4811691/beginning-band
 -practice-clone-clone-clone-clone-clone
DTSTART:20231024T193000Z
DTEND:20231024T201500Z
END:VEVENT
END:VCALENDAR
