BEGIN:VCALENDAR
VERSION:2.0
PRODID:SchoolNow
CALSCALE:GREGORIAN
BEGIN:VEVENT
UID:c0ffff72-5efb-11ee-9431-0e458b5e552b
DTSTAMP:20230929T190946Z
SUMMARY:Beginning Band Practice
LOCATION:B101
URL;VALUE=URI:https://www.arbor145.org/apms/calendar/4811692/beginning-band
 -practice-clone-clone-clone-clone-clone-clone
DTSTART:20231026T193000Z
DTEND:20231026T201500Z
END:VEVENT
END:VCALENDAR
