BEGIN:VCALENDAR
VERSION:2.0
PRODID:SchoolNow
CALSCALE:GREGORIAN
BEGIN:VEVENT
UID:cbe4da98-5efb-11ee-b610-0a58a9feac02
DTSTAMP:20230929T191004Z
SUMMARY:Beginning Band Practice
LOCATION:B101
URL;VALUE=URI:https://www.arbor145.org/apms/calendar/4811693/beginning-band
 -practice-clone-clone-clone-clone-clone-clone-clone
DTSTART:20231031T193000Z
DTEND:20231031T201500Z
END:VEVENT
END:VCALENDAR
