BEGIN:VCALENDAR
VERSION:2.0
PRODID:SchoolNow
CALSCALE:GREGORIAN
BEGIN:VEVENT
UID:deb8b0e0-5efb-11ee-a06c-0a58a9feac02
DTSTAMP:20230929T191036Z
SUMMARY:Beginning Band Practice
LOCATION:B101
URL;VALUE=URI:https://www.arbor145.org/apms/calendar/4811694/beginning-band
 -practice-clone-clone-clone-clone-clone-clone-clone-clone
DTSTART:20231102T193000Z
DTEND:20231102T201500Z
END:VEVENT
END:VCALENDAR
