BEGIN:VCALENDAR
VERSION:2.0
PRODID:SchoolNow
CALSCALE:GREGORIAN
BEGIN:VEVENT
UID:fc0ac67e-5efb-11ee-a7a7-023bc3528a89
DTSTAMP:20230929T191125Z
SUMMARY:Beginning Band Practice
LOCATION:B101
URL;VALUE=URI:https://www.arbor145.org/apms/calendar/4811695/beginning-band
 -practice-clone-clone-clone-clone-clone-clone-clone-clone-clone
DTSTART:20231107T203000Z
DTEND:20231107T211500Z
END:VEVENT
END:VCALENDAR
