BEGIN:VCALENDAR
VERSION:2.0
PRODID:SchoolNow
CALSCALE:GREGORIAN
BEGIN:VEVENT
UID:04a65dac-5efc-11ee-8208-0a58a9feac02
DTSTAMP:20230929T191139Z
SUMMARY:Beginning Band Practice
LOCATION:B101
URL;VALUE=URI:https://www.arbor145.org/apms/calendar/4811696/beginning-band
 -practice-clone-clone-clone-clone-clone-clone-clone-clone-clone-clone
DTSTART:20231109T203000Z
DTEND:20231109T211500Z
END:VEVENT
END:VCALENDAR
