BEGIN:VCALENDAR
VERSION:2.0
PRODID:SchoolNow
CALSCALE:GREGORIAN
BEGIN:VEVENT
UID:0d559526-5efc-11ee-982b-0a58a9feac02
DTSTAMP:20230929T191154Z
SUMMARY:Beginning Band Practice
LOCATION:B101
URL;VALUE=URI:https://www.arbor145.org/apms/calendar/4811697/beginning-band
 -practice-clone-clone-clone-clone-clone-clone-clone-clone-clone-clone-clon
 e
DTSTART:20231114T203000Z
DTEND:20231114T211500Z
END:VEVENT
END:VCALENDAR
