BEGIN:VCALENDAR
VERSION:2.0
PRODID:SchoolNow
CALSCALE:GREGORIAN
BEGIN:VEVENT
UID:154231c2-5efc-11ee-a567-0a58a9feac02
DTSTAMP:20230929T191207Z
SUMMARY:Beginning Band Practice
LOCATION:B101
URL;VALUE=URI:https://www.arbor145.org/apms/calendar/4811698/beginning-band
 -practice-clone-clone-clone-clone-clone-clone-clone-clone-clone-clone-clon
 e-clone
DTSTART:20231116T203000Z
DTEND:20231116T211500Z
END:VEVENT
END:VCALENDAR
