BEGIN:VCALENDAR
VERSION:2.0
PRODID:SchoolNow
CALSCALE:GREGORIAN
BEGIN:VEVENT
UID:53d45bd6-5efc-11ee-a271-0a8fc331ecd9
DTSTAMP:20230929T191352Z
SUMMARY:Beginning Band Practice
LOCATION:B101
URL;VALUE=URI:https://www.arbor145.org/apms/calendar/4811700/beginning-band
 -practice-clone-clone-clone-clone-clone-clone-clone-clone-clone-clone-clon
 e-clone-clone
DTSTART:20231128T203000Z
DTEND:20231128T211500Z
END:VEVENT
END:VCALENDAR
