BEGIN:VCALENDAR
VERSION:2.0
PRODID:SchoolNow
CALSCALE:GREGORIAN
BEGIN:VEVENT
UID:5b7c9128-5efc-11ee-ab5b-0e458b5e552b
DTSTAMP:20230929T191405Z
SUMMARY:Beginning Band Practice
LOCATION:B101
URL;VALUE=URI:https://www.arbor145.org/apms/calendar/4811701/beginning-band
 -practice-clone-clone-clone-clone-clone-clone-clone-clone-clone-clone-clon
 e-clone-clone-clone
DTSTART:20231130T203000Z
DTEND:20231130T211500Z
END:VEVENT
END:VCALENDAR
