BEGIN:VCALENDAR
VERSION:2.0
PRODID:SchoolNow
CALSCALE:GREGORIAN
BEGIN:VEVENT
UID:6a907d96-5efc-11ee-862d-0a58a9feac02
DTSTAMP:20230929T191430Z
SUMMARY:Beginning Band Practice
LOCATION:B101
URL;VALUE=URI:https://www.arbor145.org/apms/calendar/4811703/beginning-band
 -practice-clone-clone-clone-clone-clone-clone-clone-clone-clone-clone-clon
 e-clone-clone-clone-clone-clone
DTSTART:20231207T203000Z
DTEND:20231207T211500Z
END:VEVENT
END:VCALENDAR
