BEGIN:VCALENDAR
VERSION:2.0
PRODID:SchoolNow
CALSCALE:GREGORIAN
BEGIN:VEVENT
UID:759d02ea-5efc-11ee-a7b3-0a58a9feac02
DTSTAMP:20230929T191449Z
SUMMARY:Beginning Band Practice
LOCATION:B101
URL;VALUE=URI:https://www.arbor145.org/apms/calendar/4811704/beginning-band
 -practice-clone-clone-clone-clone-clone-clone-clone-clone-clone-clone-clon
 e-clone-clone-clone-clone-clone-clone
DTSTART:20231212T203000Z
DTEND:20231212T211500Z
END:VEVENT
END:VCALENDAR
