BEGIN:VCALENDAR
VERSION:2.0
PRODID:SchoolNow
CALSCALE:GREGORIAN
BEGIN:VEVENT
UID:cc630bd8-5efc-11ee-9cec-0a8fc331ecd9
DTSTAMP:20230929T191714Z
SUMMARY:Beginning Band Practice
LOCATION:B101
URL;VALUE=URI:https://www.arbor145.org/apms/calendar/4811707/beginning-band
 -practice-clone-clone-clone-clone-clone-clone-clone-clone-clone-clone-clon
 e-clone-clone-clone-clone-clone-clone-clone-clone-clone
DTSTART:20240109T203000Z
DTEND:20240109T211500Z
END:VEVENT
END:VCALENDAR
