BEGIN:VCALENDAR
VERSION:2.0
PRODID:SchoolNow
CALSCALE:GREGORIAN
BEGIN:VEVENT
UID:d5a1a40c-5efc-11ee-99e2-0a58a9feac02
DTSTAMP:20230929T191730Z
SUMMARY:Beginning Band Practice
LOCATION:B101
URL;VALUE=URI:https://www.arbor145.org/apms/calendar/4811708/beginning-band
 -practice-clone-clone-clone-clone-clone-clone-clone-clone-clone-clone-clon
 e-clone-clone-clone-clone-clone-clone-clone-clone-clone-clone
DTSTART:20240111T203000Z
DTEND:20240111T211500Z
END:VEVENT
END:VCALENDAR
