BEGIN:VCALENDAR
VERSION:2.0
PRODID:SchoolNow
CALSCALE:GREGORIAN
BEGIN:VEVENT
UID:d64bc13e-5efd-11ee-ae0d-0a877b798239
DTSTAMP:20230929T192441Z
SUMMARY:Beginning Band Practice
LOCATION:B101
URL;VALUE=URI:https://www.arbor145.org/apms/calendar/4811721/beginning-band
 -practice-clone-clone-clone-clone-clone-clone-clone-clone-clone-clone-clon
 e-clone-clone-clone-clone-clone-clone-clone-clone-clone-clone-clone-clone-
 clone-clone-clone-clone-clone-clone-clone-clone-clone-clone-clone
DTSTART:20240227T203000Z
DTEND:20240227T211500Z
END:VEVENT
END:VCALENDAR
