BEGIN:VCALENDAR
VERSION:2.0
PRODID:SchoolNow
CALSCALE:GREGORIAN
BEGIN:VEVENT
UID:e7f4043c-5efd-11ee-8a77-0a58a9feac02
DTSTAMP:20230929T192510Z
SUMMARY:Beginning Band Practice
LOCATION:B101
URL;VALUE=URI:https://www.arbor145.org/apms/calendar/4811723/beginning-band
 -practice-clone-clone-clone-clone-clone-clone-clone-clone-clone-clone-clon
 e-clone-clone-clone-clone-clone-clone-clone-clone-clone-clone-clone-clone-
 clone-clone-clone-clone-clone-clone-clone-clone-clone-clone-clone-clone-cl
 one
DTSTART:20240305T203000Z
DTEND:20240305T211500Z
END:VEVENT
END:VCALENDAR
