BEGIN:VCALENDAR
VERSION:2.0
PRODID:SchoolNow
CALSCALE:GREGORIAN
BEGIN:VEVENT
UID:95944750-5efe-11ee-9073-0a58a9feac02
DTSTAMP:20230929T193001Z
SUMMARY:Beginning Band Practice
LOCATION:B101
URL;VALUE=URI:https://www.arbor145.org/apms/calendar/4811743/beginning-band
 -practice-clone-clone-clone-clone-clone-clone-clone-clone-clone-clone-clon
 e-clone-clone-clone-clone-clone-clone-clone-clone-clone-clone-clone-clone-
 clone-clone-clone-clone-clone-clone-clone-clone-clone-clone-clone-clone-cl
 one-clone-clone-clo
DTSTART:20240509T193000Z
DTEND:20240509T201500Z
END:VEVENT
END:VCALENDAR
