BEGIN:VCALENDAR
VERSION:2.0
PRODID:SchoolNow
CALSCALE:GREGORIAN
BEGIN:VEVENT
UID:a9e67728-5efe-11ee-b98e-020a3b9851d1
DTSTAMP:20230929T193036Z
SUMMARY:Beginning Band Practice
LOCATION:B101
URL;VALUE=URI:https://www.arbor145.org/apms/calendar/4811744/beginning-band
 -practice-clone-clone-clone-clone-clone-clone-clone-clone-clone-clone-clon
 e-clone-clone-clone-clone-clone-clone-clone-clone-clone-clone-clone-clone-
 clone-clone-clone-clone-clone-clone-clone-clone-clone-clone-clone-clone-cl
 one-clone-clone-clo
DTSTART:20240514T193000Z
DTEND:20240514T201500Z
END:VEVENT
END:VCALENDAR
