BEGIN:VCALENDAR
VERSION:2.0
PRODID:SchoolNow
CALSCALE:GREGORIAN
BEGIN:VEVENT
UID:6d8a0af4-5f00-11ee-bbe1-023bc3528a89
DTSTAMP:20230929T195024Z
SUMMARY:Percussion Ensemble Practice
LOCATION:B101
URL;VALUE=URI:https://www.arbor145.org/apms/calendar/4811751/percussion-ens
 emble-practice
DTSTART:20231004T193000Z
DTEND:20231004T201500Z
END:VEVENT
END:VCALENDAR
