BEGIN:VCALENDAR
VERSION:2.0
PRODID:SchoolNow
CALSCALE:GREGORIAN
BEGIN:VEVENT
UID:c77a2ba0-5f02-11ee-97a6-027b1bec882d
DTSTAMP:20230929T200003Z
SUMMARY:Percussion Ensemble Practice
LOCATION:B101
URL;VALUE=URI:https://www.arbor145.org/apms/calendar/4811754/percussion-ens
 emble-practice-clone
DTSTART:20231011T193000Z
DTEND:20231011T201500Z
END:VEVENT
END:VCALENDAR
