BEGIN:VCALENDAR
VERSION:2.0
PRODID:SchoolNow
CALSCALE:GREGORIAN
BEGIN:VEVENT
UID:cc19f618-5f02-11ee-b24a-0a4087734a21
DTSTAMP:20230929T200011Z
SUMMARY:Percussion Ensemble Practice
LOCATION:B101
URL;VALUE=URI:https://www.arbor145.org/apms/calendar/4811755/percussion-ens
 emble-practice-clone
DTSTART:20231018T193000Z
DTEND:20231018T201500Z
END:VEVENT
END:VCALENDAR
