BEGIN:VCALENDAR
VERSION:2.0
PRODID:SchoolNow
CALSCALE:GREGORIAN
BEGIN:VEVENT
UID:d7d38aaa-5f02-11ee-9123-023bc3528a89
DTSTAMP:20230929T200031Z
SUMMARY:Percussion Ensemble Practice
LOCATION:B101
URL;VALUE=URI:https://www.arbor145.org/apms/calendar/4811756/percussion-ens
 emble-practice-clone-clone
DTSTART:20231025T193000Z
DTEND:20231025T201500Z
END:VEVENT
END:VCALENDAR
