BEGIN:VCALENDAR
VERSION:2.0
PRODID:SchoolNow
CALSCALE:GREGORIAN
BEGIN:VEVENT
UID:a4c29f92-5f03-11ee-80ad-0a18822c2ea3
DTSTAMP:20230929T200614Z
SUMMARY:Percussion Ensemble Practice
LOCATION:B101
URL;VALUE=URI:https://www.arbor145.org/apms/calendar/4811757/percussion-ens
 emble-practice-clone-clone-clone
DTSTART:20231101T193000Z
DTEND:20231101T201500Z
END:VEVENT
END:VCALENDAR
