BEGIN:VCALENDAR
VERSION:2.0
PRODID:SchoolNow
CALSCALE:GREGORIAN
BEGIN:VEVENT
UID:a8c4dfa6-5f03-11ee-96d4-0a58a9feac02
DTSTAMP:20230929T200621Z
SUMMARY:Percussion Ensemble Practice
LOCATION:B101
URL;VALUE=URI:https://www.arbor145.org/apms/calendar/4811758/percussion-ens
 emble-practice-clone-clone-clone-clone
DTSTART:20231108T203000Z
DTEND:20231108T211500Z
END:VEVENT
END:VCALENDAR
