BEGIN:VCALENDAR
VERSION:2.0
PRODID:SchoolNow
CALSCALE:GREGORIAN
BEGIN:VEVENT
UID:be63d74a-5f03-11ee-b912-0e458b5e552b
DTSTAMP:20230929T200657Z
SUMMARY:Percussion Ensemble Practice
LOCATION:B101
URL;VALUE=URI:https://www.arbor145.org/apms/calendar/4811761/percussion-ens
 emble-practice-clone-clone-clone-clone-clone-clone-clone
DTSTART:20231206T203000Z
DTEND:20231206T211500Z
END:VEVENT
END:VCALENDAR
