BEGIN:VCALENDAR
VERSION:2.0
PRODID:SchoolNow
CALSCALE:GREGORIAN
BEGIN:VEVENT
UID:294d1152-5f04-11ee-bc84-0a877b798239
DTSTAMP:20230929T200957Z
SUMMARY:Percussion Ensemble Practice
LOCATION:B101
URL;VALUE=URI:https://www.arbor145.org/apms/calendar/4811762/percussion-ens
 emble-practice-clone-clone-clone-clone-clone-clone-clone-clone
DTSTART:20231213T203000Z
DTEND:20231213T211500Z
END:VEVENT
END:VCALENDAR
